BEGIN:VCALENDAR
VERSION:2.0
PRODID:-//hacksw/handcal//NONSGML v1.0//EN
BEGIN:VEVENT
SUMMARY:Tournoi dans le noir - volley fluo
UID:442a8cda-8994-43c0-a1b8-0a414057a73b
DTSTART:20260321T000000Z
DTEND:20260321T190000Z
LOCATION:Localisation   
CATEGORIES:Sportif
STATUS:
URL;VALUE=URI:https://www.rambouillet-volleyball.fr/evenements/2026/03/21/tournoi-dans-le-noir-volley-fluo-2431076
END:VEVENT
END:VCALENDAR
