BEGIN:VCALENDAR
VERSION:2.0
PRODID:-//hacksw/handcal//NONSGML v1.0//EN
BEGIN:VEVENT
SUMMARY:dimanche  volley
UID:1e27dbf9-c9b6-4a7e-8ad7-8bdcb8f1edc4
DTSTART:20260412T080000Z
DTEND:20260412T110000Z
LOCATION:Localisation   
CATEGORIES:Sportif
STATUS:
URL;VALUE=URI:https://www.rambouillet-volleyball.fr/evenements/2026/04/12/dimanche-volley-2436549
END:VEVENT
END:VCALENDAR
